BEGIN:VCALENDAR
VERSION:2.0
PRODID:-//Department Of Education//6265408e-b4ac-4624-a0bc-3225ab6994da
BEGIN:VTIMEZONE
TZID:Australia/Sydney
TZURL:http://tzurl.org/zoneinfo-outlook/Australia/Sydney
X-LIC-LOCATION:Australia/Sydney
BEGIN:STANDARD
TZOFFSETFROM:+1100
TZOFFSETTO:+1000
TZNAME:AEST
DTSTART:19700405T030000
RRULE:FREQ=YEARLY;BYMONTH=4;BYDAY=1SU
END:STANDARD
BEGIN:DAYLIGHT
TZOFFSETFROM:+1000
TZOFFSETTO:+1100
TZNAME:AEDT
DTSTART:19701004T020000
RRULE:FREQ=YEARLY;BYMONTH=10;BYDAY=1SU
END:DAYLIGHT
END:VTIMEZONE
CALSCALE:GREGORIAN
X-WR-TIMEZONE:Australia/Sydney
BEGIN:VEVENT
DTSTART;VALUE=DATE:20200323
DTEND;VALUE=DATE:20200325
DTSTAMP:20200323T000000Z
UID:a97128a0-3ddb-432a-9faa-a32520064969
LOCATION:Sydney Academy of Sport, Narrabeen
SUMMARY;LANGUAGE=en-us:Student Leadership Camp
SEQUENCE:0
DESCRIPTION:Our Year 6 school leaders will attend the Warringah Community of Schools Student Leadership Camp 
END:VEVENT
TRANSP:TRANSPARENT
END:VCALENDAR
