BEGIN:VCALENDAR
VERSION:2.0
PRODID:-//Department Of Education//68a776e8-799c-40fe-bbd1-67cb83e02df7
BEGIN:VTIMEZONE
TZID:Australia/Sydney
TZURL:http://tzurl.org/zoneinfo-outlook/Australia/Sydney
X-LIC-LOCATION:Australia/Sydney
BEGIN:STANDARD
TZOFFSETFROM:+1100
TZOFFSETTO:+1000
TZNAME:AEST
DTSTART:19700405T030000
RRULE:FREQ=YEARLY;BYMONTH=4;BYDAY=1SU
END:STANDARD
BEGIN:DAYLIGHT
TZOFFSETFROM:+1000
TZOFFSETTO:+1100
TZNAME:AEDT
DTSTART:19701004T020000
RRULE:FREQ=YEARLY;BYMONTH=10;BYDAY=1SU
END:DAYLIGHT
END:VTIMEZONE
CALSCALE:GREGORIAN
X-WR-TIMEZONE:Australia/Sydney
BEGIN:VEVENT
DTSTART;TZID=Australia/Sydney:20200312T090039
DTEND;TZID=Australia/Sydney:20200312T133000
DTSTAMP:20200312T000000Z
UID:9ac06e48-a142-4e8d-88d2-c812298478a5
LOCATION:Specified Test Centre
SUMMARY;LANGUAGE=en-us:Selective High School Test
SEQUENCE:0
DESCRIPTION:Applicants for Year 7 placement in a selective high school in 2021 are required to take the Selective High School Placement Test to be held from 9.00am to 1.30pm on Thursday 12 March 2020 at your specified test centre.
END:VEVENT
TRANSP:TRANSPARENT
END:VCALENDAR
