BEGIN:VCALENDAR
VERSION:2.0
PRODID:-//Department Of Education//0f115a4e-026c-4dde-b93a-5c7d1f34451a
BEGIN:VTIMEZONE
TZID:Australia/Sydney
TZURL:http://tzurl.org/zoneinfo-outlook/Australia/Sydney
X-LIC-LOCATION:Australia/Sydney
BEGIN:STANDARD
TZOFFSETFROM:+1100
TZOFFSETTO:+1000
TZNAME:AEST
DTSTART:19700405T030000
RRULE:FREQ=YEARLY;BYMONTH=4;BYDAY=1SU
END:STANDARD
BEGIN:DAYLIGHT
TZOFFSETFROM:+1000
TZOFFSETTO:+1100
TZNAME:AEDT
DTSTART:19701004T020000
RRULE:FREQ=YEARLY;BYMONTH=10;BYDAY=1SU
END:DAYLIGHT
END:VTIMEZONE
CALSCALE:GREGORIAN
X-WR-TIMEZONE:Australia/Sydney
BEGIN:VEVENT
DTSTART;VALUE=DATE:20200320
DTEND;VALUE=DATE:20200321
DTSTAMP:20200320T000000Z
UID:2e98f590-20be-45d1-bd13-f711bf046dd1
LOCATION:School Grounds
SUMMARY;LANGUAGE=en-us:Harmony Day
SEQUENCE:0
DESCRIPTION:Celebrate Harmony Day at Mimosa 
END:VEVENT
TRANSP:TRANSPARENT
END:VCALENDAR
